BEGIN:VCALENDAR
VERSION:2.0
PRODID:-//https://sarria.gal///NONSGML kigkonsult.se iCalcreator 2.10.15//
METHOD:PUBLISH
BEGIN:VEVENT
UID:20260426T005510UTC-26529f2oGU@https://sarria.gal/
DTSTAMP:20260426T005510Z
DESCRIPTION: https://sarria.gal/es/turismo/que-facer/ferias-festas-eventos/
 evento/202-nadal-maxico
DTSTART:20231227T170000Z
DTEND:20231227T190000Z
LOCATION:Casa da Cultura\, rúa Marqués de Ugena s/n (Rúa Marqués de Ugena\,
  27600 Sarria\, Lugo\, España)
SUMMARY:Nadal máxico.
URL:https://sarria.gal/es/turismo/que-facer/ferias-festas-eventos/evento/20
 2-nadal-maxico
END:VEVENT
END:VCALENDAR
