BEGIN:VCALENDAR
VERSION:2.0
PRODID:-//https://sarria.gal///NONSGML kigkonsult.se iCalcreator 2.10.15//
METHOD:PUBLISH
BEGIN:VEVENT
UID:20260426T005733UTC-6339k3EUa6@https://sarria.gal/
DTSTAMP:20260426T005733Z
DESCRIPTION:MagAldara\, Mago Iago\, Roberto Lolo\, Román García e Samuel Mo
 reno acompañarán aos peques nas escolas&nbsp\; de&nbsp\;Froián\, Louseiro\
 , Vilamaior\, Corvelle\, Vilapedre e Oural no I ENCONTRO MÁXICO NO RURAL d
 o concello de Sarria.\n\n&nbsp\;\n https://sarria.gal/es/turismo/que-facer
 /ferias-festas-eventos/evento/287-i-encontro-maxico-no-rural-18-e-19-de-ma
 io
DTSTART:20240518T100000Z
DTEND:20240519T190000Z
LOCATION:Sarria ()
SUMMARY:I Encontro máxico no rural. 18 e 19 de maio.
URL:https://sarria.gal/es/turismo/que-facer/ferias-festas-eventos/evento/28
 7-i-encontro-maxico-no-rural-18-e-19-de-maio
END:VEVENT
END:VCALENDAR
