BEGIN:VCALENDAR
VERSION:2.0
PRODID:-//https://sarria.gal///NONSGML kigkonsult.se iCalcreator 2.10.15//
METHOD:PUBLISH
BEGIN:VEVENT
UID:20260426T020936UTC-5843NpISiT@https://sarria.gal/
DTSTAMP:20260426T020936Z
DESCRIPTION: https://sarria.gal/es/turismo/que-facer/ferias-festas-eventos/
 evento/294-festival-letras-galegas-2024
DTSTART:20240517T170000Z
DTEND:20240517T190000Z
LOCATION:Sociedade La Unión ()
SUMMARY:Festival Letras Galegas 2024.
URL:https://sarria.gal/es/turismo/que-facer/ferias-festas-eventos/evento/29
 4-festival-letras-galegas-2024
END:VEVENT
END:VCALENDAR
