BEGIN:VCALENDAR
VERSION:2.0
PRODID:-//https://sarria.gal///NONSGML kigkonsult.se iCalcreator 2.10.15//
METHOD:PUBLISH
BEGIN:VEVENT
UID:20260426T004649UTC-3023Jdf2iU@https://sarria.gal/
DTSTAMP:20260426T004649Z
DESCRIPTION: https://sarria.gal/es/turismo/que-facer/ferias-festas-eventos/
 evento/336-xix-festival-internacional-vila-de-sarria-maxia-no-camino
DTSTART:20240822T074600Z
DTEND:20240825T214600Z
LOCATION:Sarria ()
SUMMARY:XIX Festival Internacional Vila de Sarria. Maxia no Camiño.
URL:https://sarria.gal/es/turismo/que-facer/ferias-festas-eventos/evento/33
 6-xix-festival-internacional-vila-de-sarria-maxia-no-camino
END:VEVENT
END:VCALENDAR
