BEGIN:VCALENDAR
VERSION:2.0
PRODID:-//https://sarria.gal///NONSGML kigkonsult.se iCalcreator 2.10.15//
METHOD:PUBLISH
BEGIN:VEVENT
UID:20260426T004730UTC-7373IVJX2r@https://sarria.gal/
DTSTAMP:20260426T004730Z
DESCRIPTION: https://sarria.gal/es/turismo/que-facer/ferias-festas-eventos/
 evento/338-programacion-agosto-2024
DTSTART:20240831T073800Z
DTEND:20240901T093800Z
LOCATION:Sarria ()
SUMMARY:Programación Agosto 2024
URL:https://sarria.gal/es/turismo/que-facer/ferias-festas-eventos/evento/33
 8-programacion-agosto-2024
END:VEVENT
END:VCALENDAR
