BEGIN:VCALENDAR
VERSION:2.0
PRODID:-//https://sarria.gal///NONSGML kigkonsult.se iCalcreator 2.10.15//
METHOD:PUBLISH
BEGIN:VEVENT
UID:20260425T000753UTC-94620dugnP@https://sarria.gal/
DTSTAMP:20260425T000753Z
DESCRIPTION: https://sarria.gal/es/turismo/que-facer/ferias-festas-eventos/
 evento/386-master-sarria-2024-de-futbolin
DTSTART:20241031T110000Z
DTEND:20241102T180000Z
LOCATION:Pavillón dos Institutos ()
SUMMARY:Máster Sarria 2024 de futbolín.
URL:https://sarria.gal/es/turismo/que-facer/ferias-festas-eventos/evento/38
 6-master-sarria-2024-de-futbolin
END:VEVENT
END:VCALENDAR
