BEGIN:VCALENDAR
VERSION:2.0
PRODID:-//https://sarria.gal///NONSGML kigkonsult.se iCalcreator 2.10.15//
METHOD:PUBLISH
BEGIN:VEVENT
UID:20260425T222510UTC-0956ZU5Wmc@https://sarria.gal/
DTSTAMP:20260425T222510Z
DESCRIPTION: https://sarria.gal/es/turismo/que-facer/ferias-festas-eventos/
 evento/414-concerto-de-nadal-banda-de-musica-de-sarria-coral-polifonica-sa
 rricanta
DTSTART:20241229T190000Z
DTEND:20241229T210000Z
LOCATION:Igrexa Nosa Señora do Rosario ()
SUMMARY:Concerto de Nadal. Banda de Música de Sarria. Coral Polifónica. Sar
 ricanta
URL:https://sarria.gal/es/turismo/que-facer/ferias-festas-eventos/evento/41
 4-concerto-de-nadal-banda-de-musica-de-sarria-coral-polifonica-sarricanta
END:VEVENT
END:VCALENDAR
