BEGIN:VCALENDAR
VERSION:2.0
PRODID:-//https://sarria.gal///NONSGML kigkonsult.se iCalcreator 2.10.15//
METHOD:PUBLISH
BEGIN:VEVENT
UID:20260425T144617UTC-4603kRvV4U@https://sarria.gal/
DTSTAMP:20260425T144617Z
DESCRIPTION: https://sarria.gal/es/turismo/que-facer/ferias-festas-eventos/
 evento/421-cabalgata-dos-reis-magos
DTSTART:20250104T170000Z
DTEND:20250104T210000Z
LOCATION:Sarria ()
SUMMARY:Cabalgata dos Reis Magos
URL:https://sarria.gal/es/turismo/que-facer/ferias-festas-eventos/evento/42
 1-cabalgata-dos-reis-magos
END:VEVENT
END:VCALENDAR
