BEGIN:VCALENDAR
VERSION:2.0
PRODID:-//https://sarria.gal///NONSGML kigkonsult.se iCalcreator 2.10.15//
METHOD:PUBLISH
BEGIN:VEVENT
UID:20260424T232939UTC-96350avLmO@https://sarria.gal/
DTSTAMP:20260424T232939Z
DESCRIPTION:Babas é un caracol moi lambón. Os seus amigos dixéronlle que do
  outro lado do bosque está a planta máis saborosa e coas follas máis verde
 s de toda a fraga. Por iso\, un día decide ir coa súa amiga\, a cogomelo T
 rompita\, a buscalo. Babas anda moi amodo\, non chegan nunca! E aínda por 
 encima\, Trompita dase de conta de que algo cambia ao seu redor\, as estac
 ións do ano!\n\nAcompañas a Babas e a Trompita a descubrir todo sobre as e
 stacións?\n\nA través de diferentes elementos sensoriais\, os máis pequeno
 s/as da casa vivirán unha aventura emocionante.\nIDADE: 0/4 anos\n https:/
 /sarria.gal/es/turismo/que-facer/ferias-festas-eventos/evento/422-teatro-n
 a-casa-da-cultura-babas-descobre-as-estacions
DTSTART:20250117T160000Z
DTEND:20250117T173000Z
LOCATION:Casa da Cultura\, rúa Marqués de Ugena s/n (Rúa Marqués de Ugena\,
  27600 Sarria\, Lugo\, España)
SUMMARY:Teatro na Casa da Cultura. 'Babas descobre as estacións'
URL:https://sarria.gal/es/turismo/que-facer/ferias-festas-eventos/evento/42
 2-teatro-na-casa-da-cultura-babas-descobre-as-estacions
END:VEVENT
END:VCALENDAR
