BEGIN:VCALENDAR
VERSION:2.0
PRODID:-//https://sarria.gal///NONSGML kigkonsult.se iCalcreator 2.10.15//
METHOD:PUBLISH
BEGIN:VEVENT
UID:20260424T074143UTC-2114EuLv0B@https://sarria.gal/
DTSTAMP:20260424T074143Z
DESCRIPTION: https://sarria.gal/es/turismo/que-facer/ferias-festas-eventos/
 evento/425-unidade-mobil-doazon-de-sangue-30-de-xaneiro
DTSTART:20250130T150000Z
DTEND:20250130T200000Z
LOCATION:Rúa da Liberdade ()
SUMMARY:Unidade Mobil Doazón de Sangue. 30 de xaneiro.
URL:https://sarria.gal/es/turismo/que-facer/ferias-festas-eventos/evento/42
 5-unidade-mobil-doazon-de-sangue-30-de-xaneiro
END:VEVENT
END:VCALENDAR
