BEGIN:VCALENDAR
VERSION:2.0
PRODID:-//https://sarria.gal///NONSGML kigkonsult.se iCalcreator 2.10.15//
METHOD:PUBLISH
BEGIN:VEVENT
UID:20260424T143751UTC-6500mvdbG3@https://sarria.gal/
DTSTAMP:20260424T143751Z
DESCRIPTION: https://sarria.gal/es/turismo/que-facer/ferias-festas-eventos/
 evento/426-masterclass-juan-pedro-duran-snooker
DTSTART:20250125T150000Z
DTEND:20250125T170000Z
LOCATION:Feculera ()
SUMMARY:Masterclass Juan Pedro Durán. Snooker
URL:https://sarria.gal/es/turismo/que-facer/ferias-festas-eventos/evento/42
 6-masterclass-juan-pedro-duran-snooker
END:VEVENT
END:VCALENDAR
