BEGIN:VCALENDAR
VERSION:2.0
PRODID:-//https://sarria.gal///NONSGML kigkonsult.se iCalcreator 2.10.15//
METHOD:PUBLISH
BEGIN:VEVENT
UID:20260423T214535UTC-69654KUb7R@https://sarria.gal/
DTSTAMP:20260423T214535Z
DESCRIPTION: https://sarria.gal/es/turismo/que-facer/ferias-festas-eventos/
 evento/427-charla-xuridica-transmisions-as-persoas-con-discapacidade
DTSTART:20250208T103000Z
DTEND:20250208T120000Z
LOCATION:Casa da Cultura\, rúa Marqués de Ugena s/n (Rúa Marqués de Ugena\,
  27600 Sarria\, Lugo\, España)
SUMMARY:Charla xurídica: transmisións ás persoas con discapacidade
URL:https://sarria.gal/es/turismo/que-facer/ferias-festas-eventos/evento/42
 7-charla-xuridica-transmisions-as-persoas-con-discapacidade
END:VEVENT
END:VCALENDAR
