BEGIN:VCALENDAR
VERSION:2.0
PRODID:-//https://sarria.gal///NONSGML kigkonsult.se iCalcreator 2.10.15//
METHOD:PUBLISH
BEGIN:VEVENT
UID:20260424T040530UTC-28950cmvlG@https://sarria.gal/
DTSTAMP:20260424T040530Z
DESCRIPTION:Moitos chistes cos que hoxe nos reimos son unha adaptación de c
 ontos vellos. De curas\, de ricos\, político... que hoxe cambiaron fórmala
 s pero non os contidos nin o fondo: reirse. Especialmente de quen manda. É
  algo así como dicir: 'se non podes desobedecer\, polo menos ri del'\n\nAd
 emais\, os contos\, os chistes\, non teñen máis fronteira que o sentido do
  humor de cada un. Por iso hai contos que se contan moi\, moi parecidos en
  distintos países. É coma se a globalización económica chegase despois da 
 globalización do humor. Así\, hai contos que coñecemos como moi galegos\, 
 que se contan hoxe en día en China ou en Vietnam.\n https://sarria.gal/es/
 turismo/que-facer/ferias-festas-eventos/evento/430-teatro-na-casa-da-cultu
 ra-contos-que-foron-chistes
DTSTART:20250202T190000Z
DTEND:20250202T210000Z
LOCATION:Casa da Cultura\, rúa Marqués de Ugena s/n (Rúa Marqués de Ugena\,
  27600 Sarria\, Lugo\, España)
SUMMARY:Teatro na Casa da Cultura. 'Contos que foron chistes'
URL:https://sarria.gal/es/turismo/que-facer/ferias-festas-eventos/evento/43
 0-teatro-na-casa-da-cultura-contos-que-foron-chistes
END:VEVENT
END:VCALENDAR
