BEGIN:VCALENDAR
VERSION:2.0
PRODID:-//https://sarria.gal///NONSGML kigkonsult.se iCalcreator 2.10.15//
METHOD:PUBLISH
BEGIN:VEVENT
UID:20260423T205217UTC-1312mbnW0a@https://sarria.gal/
DTSTAMP:20260423T205217Z
DESCRIPTION: https://sarria.gal/es/turismo/que-facer/ferias-festas-eventos/
 evento/433-teatro-na-casa-da-cultura-toc-toc
DTSTART:20250209T190000Z
DTEND:20250209T210000Z
LOCATION:Casa da Cultura\, rúa Marqués de Ugena s/n (Rúa Marqués de Ugena\,
  27600 Sarria\, Lugo\, España)
SUMMARY:Teatro na Casa da Cultura. 'Toc Toc'
URL:https://sarria.gal/es/turismo/que-facer/ferias-festas-eventos/evento/43
 3-teatro-na-casa-da-cultura-toc-toc
END:VEVENT
END:VCALENDAR
