BEGIN:VCALENDAR
VERSION:2.0
PRODID:-//https://sarria.gal///NONSGML kigkonsult.se iCalcreator 2.10.15//
METHOD:PUBLISH
BEGIN:VEVENT
UID:20260422T231259UTC-9220xMS5f3@https://sarria.gal/
DTSTAMP:20260422T231259Z
DESCRIPTION: https://sarria.gal/es/turismo/que-facer/ferias-festas-eventos/
 evento/437-charla-de-seguridade-para-maiores
DTSTART:20250227T103000Z
DTEND:20250227T120000Z
LOCATION:Casa da Cultura\, rúa Marqués de Ugena s/n (Rúa Marqués de Ugena\,
  27600 Sarria\, Lugo\, España)
SUMMARY:Charla de seguridade para maiores
URL:https://sarria.gal/es/turismo/que-facer/ferias-festas-eventos/evento/43
 7-charla-de-seguridade-para-maiores
END:VEVENT
END:VCALENDAR
