BEGIN:VCALENDAR
VERSION:2.0
PRODID:-//https://sarria.gal///NONSGML kigkonsult.se iCalcreator 2.10.15//
METHOD:PUBLISH
BEGIN:VEVENT
UID:20260422T193517UTC-5715krkDjU@https://sarria.gal/
DTSTAMP:20260422T193517Z
DESCRIPTION: https://sarria.gal/es/turismo/que-facer/ferias-festas-eventos/
 evento/439-meigallos-fs
DTSTART:20250302T095600Z
DTEND:20250302T205600Z
LOCATION:Pavillón José Mario González.  O Chanto ()
SUMMARY:Meigallos FS
URL:https://sarria.gal/es/turismo/que-facer/ferias-festas-eventos/evento/43
 9-meigallos-fs
END:VEVENT
END:VCALENDAR
