BEGIN:VCALENDAR
VERSION:2.0
PRODID:-//https://sarria.gal///NONSGML kigkonsult.se iCalcreator 2.10.15//
METHOD:PUBLISH
BEGIN:VEVENT
UID:20260422T194141UTC-4711PDvhEx@https://sarria.gal/
DTSTAMP:20260422T194141Z
DESCRIPTION: https://sarria.gal/es/turismo/que-facer/ferias-festas-eventos/
 evento/440-sd-sarriana
DTSTART:20250302T090000Z
DTEND:20250302T205900Z
LOCATION:A Ribela ()
SUMMARY:SD Sarriana
URL:https://sarria.gal/es/turismo/que-facer/ferias-festas-eventos/evento/44
 0-sd-sarriana
END:VEVENT
END:VCALENDAR
