BEGIN:VCALENDAR
VERSION:2.0
PRODID:-//https://sarria.gal///NONSGML kigkonsult.se iCalcreator 2.10.15//
METHOD:PUBLISH
BEGIN:VEVENT
UID:20260422T101604UTC-0381hjvp0r@https://sarria.gal/
DTSTAMP:20260422T101604Z
DESCRIPTION: https://sarria.gal/es/turismo/que-facer/ferias-festas-eventos/
 evento/441-futbol-fin-de-semana
DTSTART:20250309T210000Z
DTEND:20250309T223800Z
LOCATION:A Ribela ()
SUMMARY:Fútbol fin de semana
URL:https://sarria.gal/es/turismo/que-facer/ferias-festas-eventos/evento/44
 1-futbol-fin-de-semana
END:VEVENT
END:VCALENDAR
