BEGIN:VCALENDAR
VERSION:2.0
PRODID:-//https://sarria.gal///NONSGML kigkonsult.se iCalcreator 2.10.15//
METHOD:PUBLISH
BEGIN:VEVENT
UID:20260420T115700UTC-1164ggNkUj@https://sarria.gal/
DTSTAMP:20260420T115700Z
DESCRIPTION: https://sarria.gal/es/turismo/que-facer/ferias-festas-eventos/
 evento/444-meigallos-fs
DTSTART:20250309T210000Z
DTEND:20250309T220000Z
LOCATION:Pavillón José Mario González.  O Chanto ()
SUMMARY:Meigallos FS
URL:https://sarria.gal/es/turismo/que-facer/ferias-festas-eventos/evento/44
 4-meigallos-fs
END:VEVENT
END:VCALENDAR
