BEGIN:VCALENDAR
VERSION:2.0
PRODID:-//https://sarria.gal///NONSGML kigkonsult.se iCalcreator 2.10.15//
METHOD:PUBLISH
BEGIN:VEVENT
UID:20260426T005018UTC-8788hbuoXz@https://sarria.gal/
DTSTAMP:20260426T005018Z
DESCRIPTION: https://sarria.gal/es/turismo/que-facer/ferias-festas-eventos/
 evento/463-ii-encontro-maxico-no-rural
DTSTART:20250412T100000Z
DTEND:20250413T190000Z
LOCATION:Sarria ()
SUMMARY:II Encontro Máxico no rural
URL:https://sarria.gal/es/turismo/que-facer/ferias-festas-eventos/evento/46
 3-ii-encontro-maxico-no-rural
END:VEVENT
END:VCALENDAR
