BEGIN:VCALENDAR
VERSION:2.0
PRODID:-//https://sarria.gal///NONSGML kigkonsult.se iCalcreator 2.10.15//
METHOD:PUBLISH
BEGIN:VEVENT
UID:20260426T020502UTC-0872Z5OXuL@https://sarria.gal/
DTSTAMP:20260426T020502Z
DESCRIPTION: https://sarria.gal/es/turismo/que-facer/ferias-festas-eventos/
 evento/465-3a-edicion-de-cantos-pequenos-de-taberna-12-de-abril
DTSTART:20250412T160000Z
DTEND:20250412T190000Z
LOCATION:Paseo do Malecón ()
SUMMARY:3ª Edición de Cantos Pequenos de taberna. 12 de abril
URL:https://sarria.gal/es/turismo/que-facer/ferias-festas-eventos/evento/46
 5-3a-edicion-de-cantos-pequenos-de-taberna-12-de-abril
END:VEVENT
END:VCALENDAR
