BEGIN:VCALENDAR
VERSION:2.0
PRODID:-//https://sarria.gal///NONSGML kigkonsult.se iCalcreator 2.10.15//
METHOD:PUBLISH
BEGIN:VEVENT
UID:20260426T030752UTC-4597GdXUbD@https://sarria.gal/
DTSTAMP:20260426T030752Z
DESCRIPTION: https://sarria.gal/es/turismo/que-facer/ferias-festas-eventos/
 evento/473-programacion-cultural-maio
DTSTART:20250530T223600Z
DTEND:20250531T003600Z
LOCATION:Sarria ()
SUMMARY:Programación cultural maio
URL:https://sarria.gal/es/turismo/que-facer/ferias-festas-eventos/evento/47
 3-programacion-cultural-maio
END:VEVENT
END:VCALENDAR
