BEGIN:VCALENDAR
VERSION:2.0
PRODID:-//https://sarria.gal///NONSGML kigkonsult.se iCalcreator 2.10.15//
METHOD:PUBLISH
BEGIN:VEVENT
UID:20260426T020824UTC-3389UAITH6@https://sarria.gal/
DTSTAMP:20260426T020824Z
DESCRIPTION: https://sarria.gal/es/turismo/que-facer/ferias-festas-eventos/
 evento/505-xxvii-xuntanza-pelerinos
DTSTART:20250705T173000Z
DTEND:20250705T213000Z
LOCATION:Sarria ()
SUMMARY:XXVII Xuntanza Peleriños
URL:https://sarria.gal/es/turismo/que-facer/ferias-festas-eventos/evento/50
 5-xxvii-xuntanza-pelerinos
END:VEVENT
END:VCALENDAR
