BEGIN:VCALENDAR
VERSION:2.0
PRODID:-//https://sarria.gal///NONSGML kigkonsult.se iCalcreator 2.10.15//
METHOD:PUBLISH
BEGIN:VEVENT
UID:20260426T005800UTC-3015GNE41N@https://sarria.gal/
DTSTAMP:20260426T005800Z
DESCRIPTION: https://sarria.gal/es/turismo/que-facer/ferias-festas-eventos/
 evento/531-festival-internacional-de-maxia-vila-de-sarria
DTSTART:20250818T150000Z
DTEND:20250824T215900Z
LOCATION:Sarria ()
SUMMARY:Festival Internacional de Maxia Vila de Sarria
URL:https://sarria.gal/es/turismo/que-facer/ferias-festas-eventos/evento/53
 1-festival-internacional-de-maxia-vila-de-sarria
END:VEVENT
END:VCALENDAR
