BEGIN:VCALENDAR
VERSION:2.0
PRODID:-//https://sarria.gal///NONSGML kigkonsult.se iCalcreator 2.10.15//
METHOD:PUBLISH
BEGIN:VEVENT
UID:20260426T020401UTC-5024cPojJX@https://sarria.gal/
DTSTAMP:20260426T020401Z
DESCRIPTION: https://sarria.gal/es/turismo/que-facer/ferias-festas-eventos/
 evento/543-garitosis
DTSTART:20250906T103000Z
DTEND:20250906T215700Z
LOCATION:Rúa da Música ()
SUMMARY:Garitosis
URL:https://sarria.gal/es/turismo/que-facer/ferias-festas-eventos/evento/54
 3-garitosis
END:VEVENT
END:VCALENDAR
