BEGIN:VCALENDAR
VERSION:2.0
PRODID:-//https://sarria.gal///NONSGML kigkonsult.se iCalcreator 2.10.15//
METHOD:PUBLISH
BEGIN:VEVENT
UID:20260421T082125UTC-37611ttVDl@https://sarria.gal/
DTSTAMP:20260421T082125Z
DESCRIPTION: https://sarria.gal/es/turismo/que-facer/ferias-festas-eventos/
 evento/546-consertasso-na-horta-brais-das-hortas
DTSTART:20250827T180000Z
DTEND:20250827T193200Z
LOCATION:Casa da Cultura\, rúa Marqués de Ugena s/n (Rúa Marqués de Ugena\,
  27600 Sarria\, Lugo\, España)
SUMMARY:Consertasso na horta. Brais das Hortas
URL:https://sarria.gal/es/turismo/que-facer/ferias-festas-eventos/evento/54
 6-consertasso-na-horta-brais-das-hortas
END:VEVENT
END:VCALENDAR
