BEGIN:VCALENDAR
VERSION:2.0
PRODID:-//https://sarria.gal///NONSGML kigkonsult.se iCalcreator 2.10.15//
METHOD:PUBLISH
BEGIN:VEVENT
UID:20260423T050513UTC-9940t8ECtv@https://sarria.gal/
DTSTAMP:20260423T050513Z
DESCRIPTION: https://sarria.gal/es/turismo/que-facer/ferias-festas-eventos/
 evento/551-programacion-cultural-setembro
DTSTART:20250930T171500Z
DTEND:20251001T191500Z
LOCATION:Sarria ()
SUMMARY:Programación cultural setembro
URL:https://sarria.gal/es/turismo/que-facer/ferias-festas-eventos/evento/55
 1-programacion-cultural-setembro
END:VEVENT
END:VCALENDAR
