BEGIN:VCALENDAR
VERSION:2.0
PRODID:-//https://sarria.gal///NONSGML kigkonsult.se iCalcreator 2.10.15//
METHOD:PUBLISH
BEGIN:VEVENT
UID:20260422T165449UTC-3852VmUdhM@https://sarria.gal/
DTSTAMP:20260422T165449Z
DESCRIPTION: https://sarria.gal/es/turismo/que-facer/ferias-festas-eventos/
 evento/552-musica-y-espacios-ars-combinatoria-triosonatas-barrocas
DTSTART:20250920T180000Z
DTEND:20250920T193000Z
LOCATION:Rúa Maior\, igrexa de San Salvador ()
SUMMARY:Música y Espacios. Ars Combinatoria. Triosonatas Barrocas
URL:https://sarria.gal/es/turismo/que-facer/ferias-festas-eventos/evento/55
 2-musica-y-espacios-ars-combinatoria-triosonatas-barrocas
END:VEVENT
END:VCALENDAR
