BEGIN:VCALENDAR
VERSION:2.0
PRODID:-//https://sarria.gal///NONSGML kigkonsult.se iCalcreator 2.10.15//
METHOD:PUBLISH
BEGIN:VEVENT
UID:20260423T035507UTC-7580KamoCs@https://sarria.gal/
DTSTAMP:20260423T035507Z
DESCRIPTION:Sábado 27 Septiembre\n9:30h Infantil Femenino: CB Sarria - Estu
 diantes\n11:00h Preinfantil Masculino: CB Sarria - Culleredo\n12:45h Mini 
 Zonal Masculino: CB Sarria - Estudiantes\n\n18:00h Cadete Femenino: CB Sar
 ria - Sanxillao\n\nDomingo 28 Septiembre\n10:00h Mini Gallega Masculino: C
 B Sarria - Estudiantes\n11:30h Premini Masculino: CB Sarria - Estudiantes
 \n\n17:00h Senior Masculino: CB Sarria - Laracha\n https://sarria.gal/es/t
 urismo/que-facer/ferias-festas-eventos/evento/557-deportes-fin-de-semana
DTSTART:20250929T154000Z
DTEND:20250930T174000Z
LOCATION:Sarria ()
SUMMARY:Deportes fin de semana
URL:https://sarria.gal/es/turismo/que-facer/ferias-festas-eventos/evento/55
 7-deportes-fin-de-semana
END:VEVENT
END:VCALENDAR
