BEGIN:VCALENDAR
VERSION:2.0
PRODID:-//https://sarria.gal///NONSGML kigkonsult.se iCalcreator 2.10.15//
METHOD:PUBLISH
BEGIN:VEVENT
UID:20260424T051155UTC-4668Sv9lPU@https://sarria.gal/
DTSTAMP:20260424T051155Z
DESCRIPTION: https://sarria.gal/es/turismo/que-facer/ferias-festas-eventos/
 evento/572-iv-mostra-de-teatro-ivan-touron-morais-nada-se-sabe
DTSTART:20251019T180000Z
DTEND:20251019T193000Z
LOCATION:Casa da Cultura\, rúa Marqués de Ugena s/n (Rúa Marqués de Ugena\,
  27600 Sarria\, Lugo\, España)
SUMMARY:IV Mostra de Teatro Iván Tourón Morais. 'Nada se sabe'.
URL:https://sarria.gal/es/turismo/que-facer/ferias-festas-eventos/evento/57
 2-iv-mostra-de-teatro-ivan-touron-morais-nada-se-sabe
END:VEVENT
END:VCALENDAR
