BEGIN:VCALENDAR
VERSION:2.0
PRODID:-//https://sarria.gal///NONSGML kigkonsult.se iCalcreator 2.10.15//
METHOD:PUBLISH
BEGIN:VEVENT
UID:20260425T232534UTC-8392vtBXlG@https://sarria.gal/
DTSTAMP:20260425T232534Z
DESCRIPTION:\n https://sarria.gal/es/turismo/que-facer/ferias-festas-evento
 s/evento/575-deportes-fin-de-semana
DTSTART:20251122T090200Z
DTEND:20251124T180200Z
LOCATION:Sarria ()
SUMMARY:Deportes fin de semana
URL:https://sarria.gal/es/turismo/que-facer/ferias-festas-eventos/evento/57
 5-deportes-fin-de-semana
END:VEVENT
END:VCALENDAR
