BEGIN:VCALENDAR
VERSION:2.0
PRODID:-//https://sarria.gal///NONSGML kigkonsult.se iCalcreator 2.10.15//
METHOD:PUBLISH
BEGIN:VEVENT
UID:20260425T140100UTC-7283n0cKk7@https://sarria.gal/
DTSTAMP:20260425T140100Z
DESCRIPTION:\n https://sarria.gal/es/turismo/que-facer/ferias-festas-evento
 s/evento/591-copa-deputacion-de-tecnica-taekwondo
DTSTART:20251115T090300Z
DTEND:20251116T110300Z
LOCATION:Novo Pavillón do Chanto (27600 Sarria\, Lugo\, España)
SUMMARY:Copa Deputación de Técnica. Taekwondo
URL:https://sarria.gal/es/turismo/que-facer/ferias-festas-eventos/evento/59
 1-copa-deputacion-de-tecnica-taekwondo
END:VEVENT
END:VCALENDAR
