BEGIN:VCALENDAR
VERSION:2.0
PRODID:-//https://sarria.gal///NONSGML kigkonsult.se iCalcreator 2.10.15//
METHOD:PUBLISH
BEGIN:VEVENT
UID:20260425T232929UTC-1487OW5jPl@https://sarria.gal/
DTSTAMP:20260425T232929Z
DESCRIPTION: https://sarria.gal/es/turismo/que-facer/ferias-festas-eventos/
 evento/594-iii-encontro-maxico-no-rural
DTSTART:20251122T110000Z
DTEND:20251123T190000Z
LOCATION:Sarria ()
SUMMARY:III Encontro Máxico no Rural
URL:https://sarria.gal/es/turismo/que-facer/ferias-festas-eventos/evento/59
 4-iii-encontro-maxico-no-rural
END:VEVENT
END:VCALENDAR
