BEGIN:VCALENDAR
VERSION:2.0
PRODID:-//https://sarria.gal///NONSGML kigkonsult.se iCalcreator 2.10.15//
METHOD:PUBLISH
BEGIN:VEVENT
UID:20260426T004650UTC-1956UoNw8S@https://sarria.gal/
DTSTAMP:20260426T004650Z
DESCRIPTION: https://sarria.gal/es/turismo/que-facer/ferias-festas-eventos/
 evento/595-teatro-en-carne-viva
DTSTART:20251123T190000Z
DTEND:20251123T204500Z
LOCATION:Casa da Cultura\, rúa Marqués de Ugena s/n (Rúa Marqués de Ugena\,
  27600 Sarria\, Lugo\, España)
SUMMARY:Teatro. 'En carne viva'
URL:https://sarria.gal/es/turismo/que-facer/ferias-festas-eventos/evento/59
 5-teatro-en-carne-viva
END:VEVENT
END:VCALENDAR
