BEGIN:VCALENDAR
VERSION:2.0
PRODID:-//https://sarria.gal///NONSGML kigkonsult.se iCalcreator 2.10.15//
METHOD:PUBLISH
BEGIN:VEVENT
UID:20260426T005624UTC-5950MuaUaD@https://sarria.gal/
DTSTAMP:20260426T005624Z
DESCRIPTION: https://sarria.gal/es/turismo/que-facer/ferias-festas-eventos/
 evento/615-gala-maxica-do-nadal
DTSTART:20251226T180000Z
DTEND:20251226T193000Z
LOCATION:Praza da Vila  (Praza da Vila\, 27600 Sarria\, Lugo\, España)
SUMMARY:Gala Máxica do Nadal
URL:https://sarria.gal/es/turismo/que-facer/ferias-festas-eventos/evento/61
 5-gala-maxica-do-nadal
END:VEVENT
END:VCALENDAR
