BEGIN:VCALENDAR
VERSION:2.0
PRODID:-//https://sarria.gal///NONSGML kigkonsult.se iCalcreator 2.10.15//
METHOD:PUBLISH
BEGIN:VEVENT
UID:20260425T160417UTC-2208d2rUZe@https://sarria.gal/
DTSTAMP:20260425T160417Z
DESCRIPTION: https://sarria.gal/es/turismo/que-facer/ferias-festas-eventos/
 evento/628-cabalgata-dos-reis-magos-no-rural
DTSTART:20260106T083400Z
DTEND:20260106T103400Z
LOCATION:Sarria ()
SUMMARY:Cabalgata dos Reis Magos no rural
URL:https://sarria.gal/es/turismo/que-facer/ferias-festas-eventos/evento/62
 8-cabalgata-dos-reis-magos-no-rural
END:VEVENT
END:VCALENDAR
