BEGIN:VCALENDAR
VERSION:2.0
PRODID:-//https://sarria.gal///NONSGML kigkonsult.se iCalcreator 2.10.15//
METHOD:PUBLISH
BEGIN:VEVENT
UID:20260420T105338UTC-4323MdLoEd@https://sarria.gal/
DTSTAMP:20260420T105338Z
DESCRIPTION:\n https://sarria.gal/gl/cidadania/participacion/eventos/evento
 /398-tapicheo-2024
DTSTART:20241205T162200Z
DTEND:20241214T220000Z
LOCATION:Sarria ()
SUMMARY:Tapicheo 2024
URL:https://sarria.gal/gl/cidadania/participacion/eventos/evento/398-tapich
 eo-2024
END:VEVENT
END:VCALENDAR
