BEGIN:VCALENDAR
VERSION:2.0
PRODID:-//https://sarria.gal///NONSGML kigkonsult.se iCalcreator 2.10.15//
METHOD:PUBLISH
BEGIN:VEVENT
UID:20260421T134023UTC-8630IW5hc0@https://sarria.gal/
DTSTAMP:20260421T134023Z
DESCRIPTION: https://sarria.gal/gl/cidadania/participacion/eventos/evento/6
 69-iv-rally-de-regularidade-vila-de-sarria
DTSTART:20260508T070000Z
DTEND:20260509T180000Z
LOCATION:Sarria ()
SUMMARY:IV Rally de Regularidade Vila de Sarria
URL:https://sarria.gal/gl/cidadania/participacion/eventos/evento/669-iv-ral
 ly-de-regularidade-vila-de-sarria
END:VEVENT
END:VCALENDAR
