BEGIN:VCALENDAR
VERSION:2.0
PRODID:-//https://sarria.gal///NONSGML kigkonsult.se iCalcreator 2.10.15//
METHOD:PUBLISH
BEGIN:VEVENT
UID:20260419T083240UTC-50309v0VZ7@https://sarria.gal/
DTSTAMP:20260419T083240Z
DESCRIPTION:\n https://sarria.gal/gl/turismo/que-facer/ferias-festas-evento
 s/evento/436-a-tarabela-ambulante-idea
DTSTART:20250221T163000Z
DTEND:20250221T173000Z
LOCATION:Casa da Cultura\, rúa Marqués de Ugena s/n (Rúa Marqués de Ugena\,
  27600 Sarria\, Lugo\, España)
SUMMARY:'A tarabela ambulante. Idea'
URL:https://sarria.gal/gl/turismo/que-facer/ferias-festas-eventos/evento/43
 6-a-tarabela-ambulante-idea
END:VEVENT
END:VCALENDAR
