BEGIN:VCALENDAR
VERSION:2.0
PRODID:-//https://sarria.gal///NONSGML kigkonsult.se iCalcreator 2.10.15//
METHOD:PUBLISH
BEGIN:VEVENT
UID:20260421T094230UTC-4835AwWs3N@https://sarria.gal/
DTSTAMP:20260421T094230Z
DESCRIPTION: https://sarria.gal/gl/turismo/que-facer/ferias-festas-eventos/
 evento/506-proxecto-solidario-visibilizacion-da-mastocitosis
DTSTART:20250724T120400Z
DTEND:20250728T140400Z
LOCATION:Sarria ()
SUMMARY:Proxecto solidario visibilización da mastocitosis
URL:https://sarria.gal/gl/turismo/que-facer/ferias-festas-eventos/evento/50
 6-proxecto-solidario-visibilizacion-da-mastocitosis
END:VEVENT
END:VCALENDAR
