BEGIN:VCALENDAR
VERSION:2.0
PRODID:-//https://sarria.gal///NONSGML kigkonsult.se iCalcreator 2.10.15//
METHOD:PUBLISH
BEGIN:VEVENT
UID:20260423T201948UTC-2109gejbGE@https://sarria.gal/
DTSTAMP:20260423T201948Z
DESCRIPTION:O campamento\, dirixido a peques de 9 a 13 anos é totalmente de
  balde e ten prazas limitadas.\n\n&nbsp\;\n\nInscricións en https://campam
 entodigital.org/#apunta-gratis\n https://sarria.gal/gl/turismo/que-facer/f
 erias-festas-eventos/evento/544-campamento-dixital-sarria
DTSTART:20250901T070000Z
DTEND:20250905T070000Z
LOCATION:Casa da Cultura\, rúa Marqués de Ugena s/n (Rúa Marqués de Ugena\,
  27600 Sarria\, Lugo\, España)
SUMMARY:Campamento Dixital Sarria
URL:https://sarria.gal/gl/turismo/que-facer/ferias-festas-eventos/evento/54
 4-campamento-dixital-sarria
END:VEVENT
END:VCALENDAR
