BEGIN:VCALENDAR
VERSION:2.0
PRODID:-//https://sarria.gal///NONSGML kigkonsult.se iCalcreator 2.10.15//
METHOD:PUBLISH
BEGIN:VEVENT
UID:20260423T085919UTC-7598u67TEb@https://sarria.gal/
DTSTAMP:20260423T085919Z
DESCRIPTION: https://sarria.gal/gl/turismo/que-facer/ferias-festas-eventos/
 evento/620-obradoiros-na-carpa-de-nadal
DTSTART:20251226T103000Z
DTEND:20251230T123000Z
LOCATION:Carpa de Nadal\, Praza da Vila ()
SUMMARY:Obradoiros na Carpa de Nadal
URL:https://sarria.gal/gl/turismo/que-facer/ferias-festas-eventos/evento/62
 0-obradoiros-na-carpa-de-nadal
END:VEVENT
END:VCALENDAR
