BEGIN:VCALENDAR
VERSION:2.0
PRODID:-//https://sarria.gal///NONSGML kigkonsult.se iCalcreator 2.10.15//
METHOD:PUBLISH
BEGIN:VEVENT
UID:20260424T070232UTC-9999taH8NC@https://sarria.gal/
DTSTAMP:20260424T070232Z
DESCRIPTION: https://sarria.gal/gl/turismo/que-facer/ferias-festas-eventos/
 evento/638-18-edicion-da-festa-do-cocido-do-porco-celta
DTSTART:20260131T123000Z
DTEND:20260131T171100Z
LOCATION:Campo da Feira (Campo da Feira)
SUMMARY:18 Edición da Festa do Cocido do Porco Celta
URL:https://sarria.gal/gl/turismo/que-facer/ferias-festas-eventos/evento/63
 8-18-edicion-da-festa-do-cocido-do-porco-celta
END:VEVENT
END:VCALENDAR
