BEGIN:VCALENDAR
VERSION:2.0
PRODID:-//https://sarria.gal///NONSGML kigkonsult.se iCalcreator 2.10.15//
METHOD:PUBLISH
BEGIN:VEVENT
UID:20260421T152439UTC-1678XkGhv5@https://sarria.gal/
DTSTAMP:20260421T152439Z
DESCRIPTION: https://sarria.gal/gl/turismo/que-facer/ferias-festas-eventos/
 evento/639-x-estremonia-cantada
DTSTART:20260321T163000Z
DTEND:20260321T223500Z
LOCATION:Sarria ()
SUMMARY:X Estremonía Cantada
URL:https://sarria.gal/gl/turismo/que-facer/ferias-festas-eventos/evento/63
 9-x-estremonia-cantada
END:VEVENT
END:VCALENDAR
