BEGIN:VCALENDAR
VERSION:2.0
PRODID:-//https://sarria.gal///NONSGML kigkonsult.se iCalcreator 2.10.15//
METHOD:PUBLISH
BEGIN:VEVENT
UID:20260422T113053UTC-3281v5zbxv@https://sarria.gal/
DTSTAMP:20260422T113053Z
DESCRIPTION: https://sarria.gal/gl/turismo/que-facer/ferias-festas-eventos/
 evento/660-presentacion-do-libro-memoria-de-sombra-y-bosque-estefania-padu
 lles
DTSTART:20260306T190000Z
DTEND:20260306T202400Z
LOCATION:Biblioteca Pública Municipal Camilo Gonsar. ()
SUMMARY:Presentación do libro 'Memoria de sombra y bosque'. Estefanía Padul
 lés
URL:https://sarria.gal/gl/turismo/que-facer/ferias-festas-eventos/evento/66
 0-presentacion-do-libro-memoria-de-sombra-y-bosque-estefania-padulles
END:VEVENT
END:VCALENDAR
