BEGIN:VCALENDAR
VERSION:2.0
PRODID:-//https://sarria.gal///NONSGML kigkonsult.se iCalcreator 2.10.15//
METHOD:PUBLISH
BEGIN:VEVENT
UID:20260425T133515UTC-5027G3vwjp@https://sarria.gal/
DTSTAMP:20260425T133515Z
DESCRIPTION: https://sarria.gal/gl/turismo/que-facer/ferias-festas-eventos/
 evento/681-mostra-fotografica-tan-coma-ti
DTSTART:20260430T100000Z
DTEND:20260529T180000Z
LOCATION:Casa da Cultura\, rúa Marqués de Ugena s/n/O Garaxe ()
SUMMARY:Mostra fotográfica. Tan coma ti
URL:https://sarria.gal/gl/turismo/que-facer/ferias-festas-eventos/evento/68
 1-mostra-fotografica-tan-coma-ti
END:VEVENT
END:VCALENDAR
