BEGIN:VCALENDAR
VERSION:2.0
PRODID:-//https://sarria.gal///NONSGML kigkonsult.se iCalcreator 2.10.15//
METHOD:PUBLISH
BEGIN:VEVENT
UID:20260423T173632UTC-06603OnVwD@https://sarria.gal/
DTSTAMP:20260423T173632Z
DESCRIPTION: https://sarria.gal/gl/turismo/que-facer/ferias-festas-eventos/
 evento/684-crea-contido-con-intelixencia-artificial
DTSTART:20260518T130000Z
DTEND:20260525T180000Z
LOCATION:Aula Cemit ()
SUMMARY:Crea contido con intelixencia artificial
URL:https://sarria.gal/gl/turismo/que-facer/ferias-festas-eventos/evento/68
 4-crea-contido-con-intelixencia-artificial
END:VEVENT
END:VCALENDAR
